BEGIN:VCALENDAR
VERSION:2.0
PRODID:-//Stratis iCal API//FR
CALSCALE:GREGORIAN
X-WR-CALNAME:Opération Noël
BEGIN:VEVENT
UID:event-15730
SUMMARY:Opération Noël
DESCRIPTION:
DTSTAMP:20211213T085349Z
DTSTART:20211210T230000Z
DTEND:20211230T230000Z
STATUS:CONFIRMED
SEQUENCE:1
BEGIN:VALARM
TRIGGER:-PT30M
DESCRIPTION:Opération Noël
ACTION:DISPLAY
END:VALARM
END:VEVENT
END:VCALENDAR