BEGIN:VCALENDAR
VERSION:2.0
PRODID:-//Stratis iCal API//FR
CALSCALE:GREGORIAN
X-WR-CALNAME:Fête de la musique !
BEGIN:VEVENT
UID:event-17455
SUMMARY:Fête de la musique !
DESCRIPTION:
DTSTAMP:20220609T082759Z
DTSTART:20220620T220000Z
DTEND:20220620T220000Z
STATUS:CONFIRMED
SEQUENCE:1
BEGIN:VALARM
TRIGGER:-PT30M
DESCRIPTION:Fête de la musique !
ACTION:DISPLAY
END:VALARM
END:VEVENT
END:VCALENDAR