BEGIN:VCALENDAR
VERSION:2.0
PRODID:-//Stratis iCal API//FR
CALSCALE:GREGORIAN
X-WR-CALNAME:Festival Echo d'Orgues 2022
BEGIN:VEVENT
UID:event-17677
SUMMARY:Festival Echo d'Orgues 2022
DESCRIPTION:
DTSTAMP:20220711T083302Z
DTSTART:20220701T220000Z
DTEND:20220726T220000Z
STATUS:CONFIRMED
SEQUENCE:1
BEGIN:VALARM
TRIGGER:-PT30M
DESCRIPTION:Festival Echo d'Orgues 2022
ACTION:DISPLAY
END:VALARM
END:VEVENT
END:VCALENDAR