BEGIN:VCALENDAR
VERSION:2.0
PRODID:-//Stratis iCal API//FR
CALSCALE:GREGORIAN
X-WR-CALNAME:Bourse aux jouets
BEGIN:VEVENT
UID:event-18064
SUMMARY:Bourse aux jouets
DESCRIPTION:
DTSTAMP:20220923T144735Z
DTSTART:20221009T063000Z
DTEND:20221009T140000Z
STATUS:CONFIRMED
SEQUENCE:2
BEGIN:VALARM
TRIGGER:-PT30M
DESCRIPTION:Bourse aux jouets
ACTION:DISPLAY
END:VALARM
END:VEVENT
END:VCALENDAR