BEGIN:VCALENDAR
VERSION:2.0
PRODID:-//Stratis iCal API//FR
CALSCALE:GREGORIAN
X-WR-CALNAME:Expo peintures
BEGIN:VEVENT
UID:event-19435
SUMMARY:Expo peintures
DESCRIPTION:
DTSTAMP:20230421T135225Z
DTSTART:20230504T220000Z
DTEND:20230530T220000Z
STATUS:CONFIRMED
SEQUENCE:3
BEGIN:VALARM
TRIGGER:-PT30M
DESCRIPTION:Expo peintures
ACTION:DISPLAY
END:VALARM
END:VEVENT
END:VCALENDAR