BEGIN:VCALENDAR
VERSION:2.0
PRODID:-//Stratis iCal API//FR
CALSCALE:GREGORIAN
X-WR-CALNAME:Réunion de Conseil Municipal
BEGIN:VEVENT
UID:event-21637
SUMMARY:Réunion de Conseil Municipal
DESCRIPTION:
DTSTAMP:20240709T072357Z
DTSTART:20240709T170000Z
DTEND:20240709T170000Z
STATUS:CONFIRMED
SEQUENCE:1
BEGIN:VALARM
TRIGGER:-PT30M
DESCRIPTION:Réunion de Conseil Municipal
ACTION:DISPLAY
END:VALARM
END:VEVENT
END:VCALENDAR